BEGIN:VCALENDAR
VERSION:2.0
PRODID:-//KDW Cares - Outreach Programs | Baltimore - ECPv5.16.4//NONSGML v1.0//EN
CALSCALE:GREGORIAN
METHOD:PUBLISH
X-ORIGINAL-URL:https://kdwcares.org
X-WR-CALDESC:Events for KDW Cares - Outreach Programs | Baltimore
REFRESH-INTERVAL;VALUE=DURATION:PT1H
X-Robots-Tag:noindex
X-PUBLISHED-TTL:PT1H
BEGIN:VTIMEZONE
TZID:America/New_York
BEGIN:DAYLIGHT
TZOFFSETFROM:-0500
TZOFFSETTO:-0400
TZNAME:EDT
DTSTART:20240310T070000
END:DAYLIGHT
BEGIN:STANDARD
TZOFFSETFROM:-0400
TZOFFSETTO:-0500
TZNAME:EST
DTSTART:20241103T060000
END:STANDARD
END:VTIMEZONE
BEGIN:VEVENT
DTSTART;VALUE=DATE:20240301
DTEND;VALUE=DATE:20240516
DTSTAMP:20260421T083139
CREATED:20240318T151903Z
LAST-MODIFIED:20240318T151903Z
UID:3820-1709251200-1715817599@kdwcares.org
SUMMARY:2024 HBCU College Scholarship
DESCRIPTION:In the spirit of recognizing extraordinary life work while giving back\, KDW Cares Inc is proud to announce its annual HBCU College Education scholarship\, in honor of the late Antwion Alexander Ball. \nThe scholarship will be awarded in the amount of $5\,000 to a high school senior entering college. Scholarship awards will be made directly to the post-secondary institution that the student has been accepted to and enrolled. \nAPPLICATIONS FOR THE 2024 HBCU COLLEGE SCHOLARSHIP ARE NOW BEING ACCEPTED & THE DEADLINE IS MAY 15\, 2024  To learn more about the scholarship and to apply\, please visit https://kdwcares.org/college-scholarship
URL:https://kdwcares.org/event/2024-hbcu-college-scholarship/
CATEGORIES:Scholarships
ATTACH;FMTTYPE=image/jpeg:https://kdwcares.org/wp-content/uploads/2024/03/2024-HBCU-College-Scholarship-Essay-Requirements.jpg
ORGANIZER;CN="KDW%20Cares":MAILTO:kdwcares@gmail.com
END:VEVENT
BEGIN:VEVENT
DTSTART;TZID=America/New_York:20240309T200000
DTEND;TZID=America/New_York:20240309T230000
DTSTAMP:20260421T083139
CREATED:20240208T174253Z
LAST-MODIFIED:20240208T174253Z
UID:3754-1710014400-1710025200@kdwcares.org
SUMMARY:FUNraiser Comedy Show
DESCRIPTION:KDW Cares invites you to our “FUN Raiser” Comedy Show! Please join us on Saturday\, March 9th from 8 PM to 11 PM as we put the FUN into fundraising to support our annual HBCU Scholarship and expand our ability to serve underserved communities through our programs: Health & Wellness\, Financial Literacy\, Clothing Drives\, and Words Matter Literacy Program. TICKETS ARE $75 per person \nCome enjoy an exciting evening of great food\, entertainment\, and transformational contributions. There will also be a cash bar on site for those of you who would like to enjoy libations.\n \nBECOME A SPONSOR-PARTNER & HELP US IMPROVE THE QUALITY OF LIFE FOR OTHERS!\nSupporter – $500 \n\n2 Tickets to our KDW Cares Annual Event\n1/4 page Marketing in Fundraiser Booklet\n\nCollaborator – $1\,500 \n\n8 tickets (1 table) to our KDW Care’s Annual Event\n1/2 page Marketing in Fundraiser Booklet\nMarketing table to promote business\, products\, and services\nPromotion in quarterly newsletter\n\nPlatinum Sponsor – $5\,000 \n\n\n\n16 tickets (2 tables) to our KDW Cares’ Annual Event\n1 full page Marketing in Fundraiser Booklet\nMarketing table to promote business\, products\, and services\nPromotion in quarterly newsletter
URL:https://kdwcares.org/event/funraiser-comedy-show/
LOCATION:La Familia Soundstage\, 836 Guilford Avenue\, Baltimore\, MD\, 21202\, United States
CATEGORIES:Fundraiser
ATTACH;FMTTYPE=image/jpeg:https://kdwcares.org/wp-content/uploads/2024/02/KDW-Cares-Fundraiser-Comedy-Show-030924-Flyer.jpg
ORGANIZER;CN="KDW%20Cares":MAILTO:kdwcares@gmail.com
END:VEVENT
END:VCALENDAR