BEGIN:VCALENDAR
VERSION:2.0
PRODID:-//KDW Cares - Outreach Programs | Baltimore - ECPv5.16.4//NONSGML v1.0//EN
CALSCALE:GREGORIAN
METHOD:PUBLISH
X-WR-CALNAME:KDW Cares - Outreach Programs | Baltimore
X-ORIGINAL-URL:https://kdwcares.org
X-WR-CALDESC:Events for KDW Cares - Outreach Programs | Baltimore
REFRESH-INTERVAL;VALUE=DURATION:PT1H
X-Robots-Tag:noindex
X-PUBLISHED-TTL:PT1H
BEGIN:VTIMEZONE
TZID:America/New_York
BEGIN:DAYLIGHT
TZOFFSETFROM:-0500
TZOFFSETTO:-0400
TZNAME:EDT
DTSTART:20250309T070000
END:DAYLIGHT
BEGIN:STANDARD
TZOFFSETFROM:-0400
TZOFFSETTO:-0500
TZNAME:EST
DTSTART:20251102T060000
END:STANDARD
END:VTIMEZONE
BEGIN:VEVENT
DTSTART;VALUE=DATE:20250322
DTEND;VALUE=DATE:20250323
DTSTAMP:20260420T223737
CREATED:20241230T230920Z
LAST-MODIFIED:20241230T231228Z
UID:4012-1742601600-1742687999@kdwcares.org
SUMMARY:Mardi Gras Masquerade Ball
DESCRIPTION:SAVE THE DATE & MARK YOUR CALENDERS for the KDW Cares Mardi Gras Masquerade Ball that will take place on Saturday\, March\, 22\, 2025. This event is a fundraiser to help support our KDW Care programs. – More details about the ball are forthcoming.
URL:https://kdwcares.org/event/mardi-gras-masquerade-ball/
ATTACH;FMTTYPE=image/jpeg:https://kdwcares.org/wp-content/uploads/2024/12/KDW-Cares-MardiGras-Masquerade-Ball-SaveTheDate-032225.jpg
ORGANIZER;CN="KDW%20Cares":MAILTO:kdwcares@gmail.com
END:VEVENT
END:VCALENDAR